BEGIN:VCALENDAR
VERSION:2.0
PRODID:-//Ridgefield Historical Society - ECPv6.15.20//NONSGML v1.0//EN
CALSCALE:GREGORIAN
METHOD:PUBLISH
X-WR-CALNAME:Ridgefield Historical Society
X-ORIGINAL-URL:https://ridgefieldhistoricalsociety.org
X-WR-CALDESC:Events for Ridgefield Historical Society
REFRESH-INTERVAL;VALUE=DURATION:PT1H
X-Robots-Tag:noindex
X-PUBLISHED-TTL:PT1H
BEGIN:VTIMEZONE
TZID:America/New_York
BEGIN:DAYLIGHT
TZOFFSETFROM:-0500
TZOFFSETTO:-0400
TZNAME:EDT
DTSTART:20250309T070000
END:DAYLIGHT
BEGIN:STANDARD
TZOFFSETFROM:-0400
TZOFFSETTO:-0500
TZNAME:EST
DTSTART:20251102T060000
END:STANDARD
BEGIN:DAYLIGHT
TZOFFSETFROM:-0500
TZOFFSETTO:-0400
TZNAME:EDT
DTSTART:20260308T070000
END:DAYLIGHT
BEGIN:STANDARD
TZOFFSETFROM:-0400
TZOFFSETTO:-0500
TZNAME:EST
DTSTART:20261101T060000
END:STANDARD
BEGIN:DAYLIGHT
TZOFFSETFROM:-0500
TZOFFSETTO:-0400
TZNAME:EDT
DTSTART:20270314T070000
END:DAYLIGHT
BEGIN:STANDARD
TZOFFSETFROM:-0400
TZOFFSETTO:-0500
TZNAME:EST
DTSTART:20271107T060000
END:STANDARD
END:VTIMEZONE
BEGIN:VEVENT
DTSTART;TZID=America/New_York:20260524T120000
DTEND;TZID=America/New_York:20260524T150000
DTSTAMP:20260421T052224
CREATED:20260416T191550Z
LAST-MODIFIED:20260416T202947Z
UID:23116-1779624000-1779634800@ridgefieldhistoricalsociety.org
SUMMARY:Volunteer BBQ
DESCRIPTION:The Ridgefield Historical Society is kicking off summer with a volunteer BBQ on the lawn of the Scott House! We are so grateful to all those who volunteer their time in support of our mission. Bring a lawn chair and enjoy a day with Historical Society friends as we decorate our little Scott House float for the parade the next day. Kindly RSVP to info@ridgefieldhistoricalsociety.org.
URL:https://ridgefieldhistoricalsociety.org/event/volunteer-bbq/
LOCATION:Scott House\, 4 Sunset Lane\, Ridgefield\, CT\, 06877\, United States
CATEGORIES:Special Events
ATTACH;FMTTYPE=image/png:https://ridgefieldhistoricalsociety.org/wp-content/uploads/2026/04/Memorial-Day-1.png
END:VEVENT
BEGIN:VEVENT
DTSTART;TZID=America/New_York:20260525T113000
DTEND;TZID=America/New_York:20260525T130000
DTSTAMP:20260421T052224
CREATED:20260406T230919Z
LAST-MODIFIED:20260406T232230Z
UID:23049-1779708600-1779714000@ridgefieldhistoricalsociety.org
SUMMARY:Memorial Day Parade
DESCRIPTION:Memorial Day Parade\n\n\n\nOn Monday\, May 25 at 11:30 a.m.\, the Ridgefield Historical Society will join Ridgefield’s Memorial Day Parade with a float honoring the countless residents who gave their lives in service to the nation\, as we mark the 250th anniversary of America this year. Volunteers and staff will be walking alongside the float. The parade begins at 11:30 a.m. with a rifle salute at the veterans monument in front of Jesse Lee Memorial United Methodist Church\, 207 Main Street\, and concludes with ceremonies at Ballard Park. If you’d like to walk with us in the parade contact: info@ridgefieldhistoricalsociety.org
URL:https://ridgefieldhistoricalsociety.org/event/memorial-day-parade/
LOCATION:CT
CATEGORIES:Special Events
ATTACH;FMTTYPE=image/jpeg:https://ridgefieldhistoricalsociety.org/wp-content/uploads/2024/04/Mem-Parade-1.jpg
END:VEVENT
END:VCALENDAR